BEGIN:VCALENDAR
PRODID:-//eluceo/ical//2.0/EN
VERSION:2.0
CALSCALE:GREGORIAN
BEGIN:VEVENT
UID:06e79fde8ef0811c9dab7ac40f805525
DTSTAMP:20260424T191729Z
SUMMARY:Uptown Jewish Film 2020
DESCRIPTION:Jewish Federation & Foundation of Rockland County\nCommunity Ca
 lendar\nhttps://jewishrockland.org/calendar/uptown-jewish-film-2020-159586
 9495\n\n3 days - 4 great films.  The Uptown Jewish Film festival goes ONLI
 NE!\n\nhttps://www.juarts.org/uptown-jewish-film
DTSTART;TZID=America/New_York:20200813T193000
DTEND;TZID=America/New_York:20200820T220000
END:VEVENT
END:VCALENDAR
