BEGIN:VCALENDAR
PRODID:-//eluceo/ical//2.0/EN
VERSION:2.0
CALSCALE:GREGORIAN
BEGIN:VEVENT
UID:56fe0c740608d4eec44382a669677301
DTSTAMP:20260425T105521Z
SUMMARY:Vanessa Hidary\, The Hebrew Mamita
DESCRIPTION:Jewish Federation & Foundation of Rockland County\nCommunity Ca
 lendar\nhttps://jewishrockland.org/calendar/vanessa-hidary-the-hebrew-mami
 ta-55996\n\nVanessa Hidary\, The Hebrew Mamita
DTSTART;TZID=America/New_York:20140126T150000
DTEND;TZID=America/New_York:20140126T180000
END:VEVENT
END:VCALENDAR
