BEGIN:VCALENDAR
PRODID:-//eluceo/ical//2.0/EN
VERSION:2.0
CALSCALE:GREGORIAN
BEGIN:VEVENT
UID:6bf014930a5513fc358e61cf18b10b5c
DTSTAMP:20260422T211342Z
SUMMARY:Virtual Tour of Acre (AKKO)
DESCRIPTION:Jewish Federation & Foundation of Rockland County\nCommunity Ca
 lendar\nhttps://jewishrockland.org/calendar/virtual-tour-of-acre-akko-1638
 910526\n\nVirtual Tour of Acre\, Israel - Cost - $18 - Please call or e-ma
 il the Congregation Shir Shalom office to RSVP. Zoom log in\ninformation w
 ill be sent in advance of the event. Acre (Akko) is a city in the Western 
 Galilee region of northern Israel at Haifa Bay. Acre is one of the oldest 
 inhabited cities in the county.
DTSTART;TZID=America/New_York:20220130T100000
DTEND;TZID=America/New_York:20220130T110000
END:VEVENT
END:VCALENDAR
