BEGIN:VCALENDAR
PRODID:-//eluceo/ical//2.0/EN
VERSION:2.0
CALSCALE:GREGORIAN
BEGIN:VEVENT
UID:9ef2c2923a3f7ee9c0b87ffccea4572e
DTSTAMP:20260424T080549Z
SUMMARY:Vision Lecture Series--Ballots\, Babies\, and Banners of Peace:  Am
 erican Jew
DESCRIPTION:Jewish Federation & Foundation of Rockland County\nCommunity Ca
 lendar\nhttps://jewishrockland.org/calendar/vision-lecture-series--ballots
 -babies-and-banners-of-peace--american-jewish-womens-activism-from-189-749
 7\n\nVision Lecture Series--Ballots\, Babies\, Banners
DTSTART;TZID=America/New_York:20131030T193000
DTEND;TZID=America/New_York:20131030T210000
END:VEVENT
END:VCALENDAR
