BEGIN:VCALENDAR
PRODID:-//eluceo/ical//2.0/EN
VERSION:2.0
CALSCALE:GREGORIAN
BEGIN:VEVENT
UID:ab23368a39c3f2583e09a9464237dd5a
DTSTAMP:20260424T140010Z
SUMMARY:Visions for LGBT Jewish Community
DESCRIPTION:Jewish Federation & Foundation of Rockland County\nCommunity Ca
 lendar\nhttps://jewishrockland.org/calendar/visions-for-lgbt-jewish-commun
 ity-7272\n\nVisions for LGBT Jewish Community
DTSTART;TZID=America/New_York:20130116T193000
DTEND;TZID=America/New_York:20130116T213000
END:VEVENT
END:VCALENDAR
