BEGIN:VCALENDAR
PRODID:-//eluceo/ical//2.0/EN
VERSION:2.0
CALSCALE:GREGORIAN
BEGIN:VEVENT
UID:b0805f86b9dde9047334a2fc4d3a89b1
DTSTAMP:20260424T094512Z
SUMMARY:Visions Lecture Series - The Future Trend of the American Jewish Co
 mmunity
DESCRIPTION:Jewish Federation & Foundation of Rockland County\nCommunity Ca
 lendar\nhttps://jewishrockland.org/calendar/visions-lecture-series---the-f
 uture-trend-of-the-american-jewish-community-7335\n\nVisions Lecture - Fut
 ure Trend of the American Jew
DTSTART;TZID=America/New_York:20130318T193000
DTEND;TZID=America/New_York:20130318T213000
END:VEVENT
END:VCALENDAR
