BEGIN:VCALENDAR
PRODID:-//eluceo/ical//2.0/EN
VERSION:2.0
CALSCALE:GREGORIAN
BEGIN:VEVENT
UID:46f0b9f64d4ef198a288eb93ca757988
DTSTAMP:20260419T132455Z
SUMMARY:Visual Midrash: Seeing the Sacred Through the Eyes of the Artist
DESCRIPTION:Jewish Federation & Foundation of Rockland County\nCommunity Ca
 lendar\nhttps://jewishrockland.org/calendar/visual-midrash-seeing-the-sacr
 ed-through-the-eyes-of-the-artist-1760719283\n\nJoin Rabbi David Berkman o
 f New City Jewish Center for an exploration of the torah text through the 
 eyes of classical and contemporary artists while deepening our understandi
 ng of torah and ourselves
DTSTART;TZID=America/New_York:20251027T120000
DTEND;TZID=America/New_York:20251027T130000
END:VEVENT
END:VCALENDAR
