BEGIN:VCALENDAR
PRODID:-//eluceo/ical//2.0/EN
VERSION:2.0
CALSCALE:GREGORIAN
BEGIN:VEVENT
UID:e3fe09fd4c280e7c8807688a759c3747
DTSTAMP:20260423T070806Z
SUMMARY:Vital Movement Series
DESCRIPTION:Jewish Federation & Foundation of Rockland County\nCommunity Ca
 lendar\nhttps://jewishrockland.org/calendar/vital-movement-series-16082551
 49\n\nJudith Rose the founder of Vital Movement is an experienced educator
  \, choreographer\, poet and movement artist.  Cost for non- CSI members i
 s $80. \nRSVP to CSIoffice@optonline.net . Zoom link \, will be sent a few
  days before class\nChecks to: CSI Nyack c/o Paul Bloch 4 Panoramic Drive\
 , Valley Cottage\, NY 10989
DTSTART;TZID=America/New_York:20210120T133000
DTEND;TZID=America/New_York:20210120T143000
END:VEVENT
END:VCALENDAR
