BEGIN:VCALENDAR
PRODID:-//eluceo/ical//2.0/EN
VERSION:2.0
CALSCALE:GREGORIAN
BEGIN:VEVENT
UID:5a284505a36f0634a62c5c3775d0d72f
DTSTAMP:20260424T051257Z
SUMMARY:Wall of Giving - 2017
DESCRIPTION:Jewish Federation & Foundation of Rockland County\nCommunity Ca
 lendar\nhttps://jewishrockland.org/calendar/wall-of-giving-2017\n\nWall of
  Giving 2017
DTSTART;TZID=America/New_York:20170614T000000
DTEND;TZID=America/New_York:20170614T000000
END:VEVENT
END:VCALENDAR
