BEGIN:VCALENDAR
PRODID:-//eluceo/ical//2.0/EN
VERSION:2.0
CALSCALE:GREGORIAN
BEGIN:VEVENT
UID:169c25fe43500f65919dfaf6a624ee8f
DTSTAMP:20260423T014352Z
SUMMARY:War in Israel - How are families holding up?
DESCRIPTION:Jewish Federation & Foundation of Rockland County\nCommunity Ca
 lendar\nhttps://jewishrockland.org/calendar/war-in-israel---how-are-famili
 es-holding-up-1711399039\n\nProfessor Carol King Berkman\, a social work c
 linician at Rockland Jewish Family Service\, will address the war in Israe
 l and the trickle-down effects it has on families in Israel.
DTSTART;TZID=America/New_York:20240403T190000
DTEND;TZID=America/New_York:20240403T203000
END:VEVENT
END:VCALENDAR
