BEGIN:VCALENDAR
PRODID:-//eluceo/ical//2.0/EN
VERSION:2.0
CALSCALE:GREGORIAN
BEGIN:VEVENT
UID:beb0ce2a95c9f71e1b88530515a4b19c
DTSTAMP:20260421T123015Z
SUMMARY:Watchers of the Sky
DESCRIPTION:Jewish Federation & Foundation of Rockland County\nCommunity Ca
 lendar\nhttps://jewishrockland.org/calendar/watchers-of-the-sky-204442\n\n
 Free for Museum members and open to the public for $5.\nInformal discussio
 n to follow.\nModerator: The Museum's Director of Education\, Amy SaNoguei
 ra\n\nFor more information please contact Jo at 845-574-4099 or HolocaustR
 CC@gmail.com
DTSTART;TZID=America/New_York:20160908T183000
DTEND;TZID=America/New_York:20160908T200000
END:VEVENT
END:VCALENDAR
