BEGIN:VCALENDAR
PRODID:-//eluceo/ical//2.0/EN
VERSION:2.0
CALSCALE:GREGORIAN
BEGIN:VEVENT
UID:a645542e2d74ef3e72a591da97e7385f
DTSTAMP:20260424T043955Z
SUMMARY:Watermelon Wednesday AM Summer Story Time
DESCRIPTION:Jewish Federation & Foundation of Rockland County\nCommunity Ca
 lendar\nhttps://jewishrockland.org/calendar/watermelon-wednesday-am-summer
 -story-time-7401\n\nWatermelon Wednesday AM Summer Story Time
DTSTART;TZID=America/New_York:20130710T103000
DTEND;TZID=America/New_York:20130710T113000
END:VEVENT
END:VCALENDAR
