BEGIN:VCALENDAR
PRODID:-//eluceo/ical//2.0/EN
VERSION:2.0
CALSCALE:GREGORIAN
BEGIN:VEVENT
UID:b7fa9c8c2430065db15f82c3a7bacd3a
DTSTAMP:20260421T075858Z
SUMMARY:Watermelon Wednesdays at CSI
DESCRIPTION:Jewish Federation & Foundation of Rockland County\nCommunity Ca
 lendar\nhttps://jewishrockland.org/calendar/watermelon-wednesdays-csi-1435
 852678\n\nCSI Watermelon Wednesday Story Time- Aug 12\, 19 and 26-11:15 AM
 .\nJoin Rabbi Russo as she shares wonderful stories with a Jewish Theme. A
 fterwards we all enjoy Watermelon!!! Bring your friends – Join us at the
  CSI Atrium. FREE\nCongregation Sons of Israel\, 300 N. Broadway\, Upper N
 yack\, NY 10960. For more information contact us at 845-358-3767 or csioff
 ice@optonline.net
DTSTART;TZID=America/New_York:20150812T111500
DTEND;TZID=America/New_York:20150812T114500
END:VEVENT
END:VCALENDAR
