BEGIN:VCALENDAR
PRODID:-//eluceo/ical//2.0/EN
VERSION:2.0
CALSCALE:GREGORIAN
BEGIN:VEVENT
UID:70f3dc3b416dffdfaf15f52f5df9f3b0
DTSTAMP:20260423T235106Z
SUMMARY:Welcome Back Shabbat Family Service and Dinner at CSI
DESCRIPTION:Jewish Federation & Foundation of Rockland County\nCommunity Ca
 lendar\nhttps://jewishrockland.org/calendar/welcome-back-shabbat-family-se
 rvice-and-dinner-at-csi\n\nWelcome Back Shabbat and Family Friendly Friday
  Night Service and Dinner\nPlease join Rabbi Ariel Russo and Hazzan Michae
 l Kasper for services where we will sing\, dance\, pray and tell stories. 
 This is a great opportunity to learn about Shabbat and have fun. We welcom
 e everyone to come and take part of the joy of Shabbat with engaging and i
 nteractive services. The main service will take place simultaneously in th
 e sanctuary at\n6 p.m.\nThere will be a Shabbat Dinner following services.
  Cost fo...
DTSTART;TZID=America/New_York:20140912T180000
DTEND;TZID=America/New_York:20140912T210000
END:VEVENT
END:VCALENDAR
