BEGIN:VCALENDAR
PRODID:-//eluceo/ical//2.0/EN
VERSION:2.0
CALSCALE:GREGORIAN
BEGIN:VEVENT
UID:51f22ff751fab9a82965b42ebad9f9d6
DTSTAMP:20260421T190121Z
SUMMARY:What's Jewish About Breast Cancer?
DESCRIPTION:Jewish Federation & Foundation of Rockland County\nCommunity Ca
 lendar\nhttps://jewishrockland.org/calendar/whats-jewish-about-breast-canc
 er-2016\n\nSponsored by Israel Bonds Women's Division\n\nMake pink Challah
  and learn how to be proactive about your health with Sharsheret\, an orga
 nization that offers a community of support to women of all Jewish backgro
 unds\, diagnosed with breast or ovarian cancer\, or at increased genetic r
 isk.\n\nBraid pre-made challah dough\, add fun toppings\, and take home to
  bake fresh for Shabbat.
DTSTART;TZID=America/New_York:20161208T190000
DTEND;TZID=America/New_York:20161208T210000
END:VEVENT
END:VCALENDAR
