BEGIN:VCALENDAR
PRODID:-//eluceo/ical//2.0/EN
VERSION:2.0
CALSCALE:GREGORIAN
BEGIN:VEVENT
UID:c3786cb0d41b94889f356701a7c447ec
DTSTAMP:20260424T071457Z
SUMMARY:Why is this Shabbat called Shabbat Hagadol (The Great Shabbat?)
DESCRIPTION:Jewish Federation & Foundation of Rockland County\nCommunity Ca
 lendar\nhttps://jewishrockland.org/calendar/why-is-this-shabbat-called-sha
 bbat-hagadol-139513\n\nThe Shabbat before Passover is called Shabbat Hagad
 ol\, The Great Shabbat. Isn't every Shabbat great? Why is this Shabbat dif
 ferent from every other Shabbat?\n\nLed by Rabbi Reuven Stengel\, a true s
 cholar and a dynamic speaker\, this session is sure to be fascinating and 
 delight.
DTSTART;TZID=America/New_York:20150328T180000
DTEND;TZID=America/New_York:20150328T185000
END:VEVENT
END:VCALENDAR
