BEGIN:VCALENDAR
PRODID:-//eluceo/ical//2.0/EN
VERSION:2.0
CALSCALE:GREGORIAN
BEGIN:VEVENT
UID:2a935e53abf6ad5a3e1d99523c26f142
DTSTAMP:20260420T153735Z
SUMMARY:Women of Torah with Rabbi Paula Drill
DESCRIPTION:Jewish Federation & Foundation of Rockland County\nCommunity Ca
 lendar\nhttps://jewishrockland.org/calendar/women-of-torah-rabbi-drill-633
 02\n\nNot for women only! Explore stories of the women of the Torah with R
 abbi Drill.
DTSTART;TZID=America/New_York:20140519T110000
DTEND;TZID=America/New_York:20140519T120000
END:VEVENT
END:VCALENDAR
