BEGIN:VCALENDAR
PRODID:-//eluceo/ical//2.0/EN
VERSION:2.0
CALSCALE:GREGORIAN
BEGIN:VEVENT
UID:23e68f9c5a6720e9fbe56dd6bd4d8b0b
DTSTAMP:20260420T201444Z
SUMMARY:Women of Torah with Rabbi Drill
DESCRIPTION:Jewish Federation & Foundation of Rockland County\nCommunity Ca
 lendar\nhttps://jewishrockland.org/calendar/women-of-torah-with-rabbi-dril
 l-1415214237\n\nNot for Women only\, Sometimes the stories of women are in
  the verses of Torah and sometimes we discover them between the lines.
DTSTART;TZID=America/New_York:20141110T110000
DTEND;TZID=America/New_York:20141110T123000
END:VEVENT
END:VCALENDAR
