BEGIN:VCALENDAR
PRODID:-//eluceo/ical//2.0/EN
VERSION:2.0
CALSCALE:GREGORIAN
BEGIN:VEVENT
UID:0f4890b39c679c41d371afe899b88c8d
DTSTAMP:20260422T045929Z
SUMMARY:Women's Philanthropy Annual Dinner & Auction
DESCRIPTION:Jewish Federation & Foundation of Rockland County\nCommunity Ca
 lendar\nhttps://jewishrockland.org/calendar/womens-philanthropy-annual-din
 ner--auction\n\nWomen's Philanthropy Annual Dinner & Auction
DTSTART;TZID=America/New_York:20140522T180000
DTEND;TZID=America/New_York:20140522T210000
END:VEVENT
END:VCALENDAR
