BEGIN:VCALENDAR
PRODID:-//eluceo/ical//2.0/EN
VERSION:2.0
CALSCALE:GREGORIAN
BEGIN:VEVENT
UID:b562a141ebb2ccfec5e586182b424b30
DTSTAMP:20260423T071931Z
SUMMARY:Women's Philanthropy February Dinner and Program
DESCRIPTION:Jewish Federation & Foundation of Rockland County\nCommunity Ca
 lendar\nhttps://jewishrockland.org/calendar/womens-philanthropy-february-d
 inner-and-program-259139\n\nWomen's Philanthropy of the Jewish Federation 
 & Foundation of Rockland County cordially invites Lion of Judah and Pomegr
 anate Society women to a private dinner and program: \n\n\n"From Philadelp
 hia to Belgrade: One Jewish Woman's Journey" with special guest Rachel Cha
 nin \n\n\nCouvert: $50 per person\; dietary laws observed. \n\nRSVP onlin
 e or by calling Rebecca at 845-362-4200 x121.  \n\nRachel Chanin\, a Jewi
 sh woman from Philadelphia\, is quickly reaching the tipping point of havi
 ng lived l...
DTSTART;TZID=America/New_York:20180208T183000
DTEND;TZID=America/New_York:20180208T213000
END:VEVENT
END:VCALENDAR
