BEGIN:VCALENDAR
PRODID:-//eluceo/ical//2.0/EN
VERSION:2.0
CALSCALE:GREGORIAN
BEGIN:VEVENT
UID:82bdf60c8fa135f050bded19549ebe7c
DTSTAMP:20260423T041727Z
SUMMARY:Women's Seder at CSI
DESCRIPTION:Jewish Federation & Foundation of Rockland County\nCommunity Ca
 lendar\nhttps://jewishrockland.org/calendar/womens-seder-at-csi-march-2017
 \n\nTuesday\, March 28 Women’s Seder at CSI\nExperience The Seder Throug
 h The Eyes Of Women led by Rabbi Ariel Russo and hosted by Eden Michaelis 
 and Sisterhood. If anyone would like to share some family history......ple
 ase bring a Seder artifact from your home....etc.\nCost: $18 per person RS
 VP by March 24\nFor more information contact us at 845-358-3767 or csioffi
 ce@optonline.net
DTSTART;TZID=America/New_York:20170328T190000
DTEND;TZID=America/New_York:20170328T213000
END:VEVENT
END:VCALENDAR
