BEGIN:VCALENDAR
PRODID:-//eluceo/ical//2.0/EN
VERSION:2.0
CALSCALE:GREGORIAN
BEGIN:VEVENT
UID:81174d199fa6e92bef0aee1bb1667ea3
DTSTAMP:20260425T024257Z
SUMMARY:Women's Seder at New City Jewish Center
DESCRIPTION:Jewish Federation & Foundation of Rockland County\nCommunity Ca
 lendar\nhttps://jewishrockland.org/calendar/womens-seder-at-new-city-jewis
 h-center-1741366475\n\nJoin Rabbi Allison in celebrating the role of women
  in the story of the exodus and in our lives today.
DTSTART;TZID=America/New_York:20250330T180000
DTEND;TZID=America/New_York:20250330T210000
END:VEVENT
END:VCALENDAR
