BEGIN:VCALENDAR
PRODID:-//eluceo/ical//2.0/EN
VERSION:2.0
CALSCALE:GREGORIAN
BEGIN:VEVENT
UID:8e7d34341afeab99b205f5da31afbf93
DTSTAMP:20260422T005845Z
SUMMARY:Yaldeinu: Our Children
DESCRIPTION:Jewish Federation & Foundation of Rockland County\nCommunity Ca
 lendar\nhttps://jewishrockland.org/calendar/yaldeinu-our-children-14121826
 22-115298\n\nYaldeinu: Our children is the early childhood program at Beth
  Am Temple\nParents join their children for an age-appropriate introductio
 n to Judaism\nActivities include music\, visual arts\, snack\, dance\, yog
 a\, drama\, etc.
DTSTART;TZID=America/New_York:20150308T100000
DTEND;TZID=America/New_York:20150308T110000
END:VEVENT
END:VCALENDAR
