BEGIN:VCALENDAR
PRODID:-//eluceo/ical//2.0/EN
VERSION:2.0
CALSCALE:GREGORIAN
BEGIN:VEVENT
UID:d6e70151122840ec174b4bc56af362a0
DTSTAMP:20260422T074923Z
SUMMARY:Yiddish Club at CSI
DESCRIPTION:Jewish Federation & Foundation of Rockland County\nCommunity Ca
 lendar\nhttps://jewishrockland.org/calendar/yiddish-club-at-csi\n\nWhile n
 one of us are mavens\, we love this fabulous language and culture so much 
 that we want to share what we know. We will talk about Yiddish\, Music\, l
 earn and practice Yiddish through dialogue and songs\, and of course\, kib
 bitz (chat)
DTSTART;TZID=America/New_York:20241211T200000
DTEND;TZID=America/New_York:20241211T211500
END:VEVENT
END:VCALENDAR
