BEGIN:VCALENDAR
PRODID:-//eluceo/ical//2.0/EN
VERSION:2.0
CALSCALE:GREGORIAN
BEGIN:VEVENT
UID:75c86545ba9be2ddc55a6836bc503aea
DTSTAMP:20260422T161843Z
SUMMARY:Yoga for Kids at CSI
DESCRIPTION:Jewish Federation & Foundation of Rockland County\nCommunity Ca
 lendar\nhttps://jewishrockland.org/calendar/yoga-for-kids-at-csi\n\nYoga f
 or Kids at CSI
DTSTART;TZID=America/New_York:20131003T124500
DTEND;TZID=America/New_York:20131003T133000
END:VEVENT
END:VCALENDAR
