BEGIN:VCALENDAR
PRODID:-//eluceo/ical//2.0/EN
VERSION:2.0
CALSCALE:GREGORIAN
BEGIN:VEVENT
UID:e45cccddb60e484579aebbf20f61ff71
DTSTAMP:20260419T223603Z
SUMMARY:Yom Ha Shoah Community Wide Commemoration
DESCRIPTION:Jewish Federation & Foundation of Rockland County\nCommunity Ca
 lendar\nhttps://jewishrockland.org/calendar/yom-ha-shoah-community-wide-co
 mmemoration-1605709973\n\nYom Ha Shoah Community-Wide Commemoration
DTSTART;TZID=America/New_York:20210404T170000
DTEND;TZID=America/New_York:20210404T190000
END:VEVENT
END:VCALENDAR
