BEGIN:VCALENDAR
PRODID:-//eluceo/ical//2.0/EN
VERSION:2.0
CALSCALE:GREGORIAN
BEGIN:VEVENT
UID:fe83ef0acb11a812fce514011ae838bd
DTSTAMP:20260420T043338Z
SUMMARY:Yom Hashoah at the Courhouse
DESCRIPTION:Jewish Federation & Foundation of Rockland County\nCommunity Ca
 lendar\nhttps://jewishrockland.org/calendar/yom-hashoah-at-the-courhouse-1
 718550697\n\nYom HaShoah at the Courthouse
DTSTART;TZID=America/New_York:20250424T140000
DTEND;TZID=America/New_York:20250424T160000
END:VEVENT
END:VCALENDAR
