BEGIN:VCALENDAR
PRODID:-//eluceo/ical//2.0/EN
VERSION:2.0
CALSCALE:GREGORIAN
BEGIN:VEVENT
UID:929af9f30451636ce59b7fa151675f43
DTSTAMP:20260422T223629Z
SUMMARY:Yom HaShoah at the Courthouse
DESCRIPTION:Jewish Federation & Foundation of Rockland County\nCommunity Ca
 lendar\nhttps://jewishrockland.org/calendar/yom-hashoah-at-the-courthouse-
 1546536803\n\nYom HaShoah at the Courthouse
DTSTART;TZID=America/New_York:20190502T150000
DTEND;TZID=America/New_York:20190502T160000
END:VEVENT
END:VCALENDAR
