BEGIN:VCALENDAR
PRODID:-//eluceo/ical//2.0/EN
VERSION:2.0
CALSCALE:GREGORIAN
BEGIN:VEVENT
UID:6ae09309cf5deb66ed99b38ff6814d7e
DTSTAMP:20260425T011640Z
SUMMARY:Yom HaShoah Commemoration at the Courthouse
DESCRIPTION:Jewish Federation & Foundation of Rockland County\nCommunity Ca
 lendar\nhttps://jewishrockland.org/calendar/yom-hashoah-commemoration-at-t
 he-courthouse-1689157902\n\nYom HaShoah Commemoration at the Courthouse HM
 CTE\, JBLS and the RC Bar Association
DTSTART;TZID=America/New_York:20240506T140000
DTEND;TZID=America/New_York:20240506T153000
END:VEVENT
END:VCALENDAR
