BEGIN:VCALENDAR
PRODID:-//eluceo/ical//2.0/EN
VERSION:2.0
CALSCALE:GREGORIAN
BEGIN:VEVENT
UID:0af1a5ee58e1e0f0ffc3af25a49e7ee7
DTSTAMP:20260421T165800Z
SUMMARY:Yom Hazikaron community observance
DESCRIPTION:Jewish Federation & Foundation of Rockland County\nCommunity Ca
 lendar\nhttps://jewishrockland.org/calendar/yom-hazikaron-community-observ
 ance-1743712447\n\nOur community commemorates those who have fallen in Isr
 ael's wars and in acts of terrorism.
DTSTART;TZID=America/New_York:20250429T190000
DTEND;TZID=America/New_York:20250429T200000
END:VEVENT
END:VCALENDAR
