BEGIN:VCALENDAR
PRODID:-//eluceo/ical//2.0/EN
VERSION:2.0
CALSCALE:GREGORIAN
BEGIN:VEVENT
UID:bec6f56e1d5fb73f4402015e3f934b6d
DTSTAMP:20260424T171948Z
SUMMARY:Yom HaZikaron Commemoration / Yom HaAtzmaut Celebration
DESCRIPTION:Jewish Federation & Foundation of Rockland County\nCommunity Ca
 lendar\nhttps://jewishrockland.org/calendar/yom-hazikaron-yom-haatzmaut-13
 2332\n\nJoin the Jewish Federation of Rockland County and other community 
 organizations as we observe Israel's Memorial Day (Yom HaZikaron) by honor
 ing those who served and gave their lives defending Israel and victims of 
 terror. As the sun sets\, we begin celebrating Israel's Independence Day (
 Yom HaAtzmaut) with activities\, music\, dancing and falafel.\n\nPre-regis
 tration is closed. Cost per person is $5 at the door.
DTSTART;TZID=America/New_York:20150422T190000
DTEND;TZID=America/New_York:20150422T210000
END:VEVENT
END:VCALENDAR
