BEGIN:VCALENDAR
PRODID:-//eluceo/ical//2.0/EN
VERSION:2.0
CALSCALE:GREGORIAN
BEGIN:VEVENT
UID:f96d6a5c458e77e09d4b14571d63808b
DTSTAMP:20260421T230256Z
SUMMARY:Yom HaZikaron / Yom HaAtzmaut Commemoration and Celebration
DESCRIPTION:Jewish Federation & Foundation of Rockland County\nCommunity Ca
 lendar\nhttps://jewishrockland.org/calendar/yom-hazikaron-yom-haatzmaut-20
 14\n\nCommunity-Wide Yom Hazikaron and Yom Haatzmaut Commemoration and Cel
 ebration\, 7:30 PM at New City Jewish Center. Recognizing those who served
  in the IDF. Program followed by a festive celebration that includes falaf
 el\, music and dancing. Featuring guest speaker Noam Shalit\, father of Gi
 lad Shalit\, an IDF soldier who was abducted by Hamas in 2006 and held cap
 tive for over 5 years. $10 per person for general admission/falafel\; chil
 dren under 10 are free. $100 per person for pre-event dinner wit...
DTSTART;TZID=America/New_York:20140505T193000
DTEND;TZID=America/New_York:20140505T203000
END:VEVENT
END:VCALENDAR
