BEGIN:VCALENDAR
PRODID:-//eluceo/ical//2.0/EN
VERSION:2.0
CALSCALE:GREGORIAN
BEGIN:VEVENT
UID:110b9224d28e45c3b5a3654970b3a47e
DTSTAMP:20260423T211802Z
SUMMARY: Yom Kippur Children’s Service at CSI
DESCRIPTION:Jewish Federation & Foundation of Rockland County\nCommunity Ca
 lendar\nhttps://jewishrockland.org/calendar/yom-kippur-childrens-service-a
 t-csi-1439345226\n\nSeptember 23\, 11 a.m. Yom Kippur Children’s Service
  at CSI\nCSI has a full range of programs for each member of the family\, 
 0-3 year olds (with family member) 4-7 year olds (with family member)\, an
 d 8-12 year olds.\nFree to members. Congregation Sons of Israel\, 300 N. B
 roadway\, Upper Nyack\, NY 10960. For High Holiday Tickets\, call the CSI 
 office at 845-358-3767 or csioffice@optonline.net
DTSTART;TZID=America/New_York:20150923T110000
DTEND;TZID=America/New_York:20150923T120000
END:VEVENT
END:VCALENDAR
