BEGIN:VCALENDAR
PRODID:-//eluceo/ical//2.0/EN
VERSION:2.0
CALSCALE:GREGORIAN
BEGIN:VEVENT
UID:c107bd36ac66c887f342e5db243f97ca
DTSTAMP:20260424T052921Z
SUMMARY:Yom Kippur Children's service
DESCRIPTION:Jewish Federation & Foundation of Rockland County\nCommunity Ca
 lendar\nhttps://jewishrockland.org/calendar/yom-kippur-childrens-service-b
 eth-sholom\n\nAll are welcome to a Children's Yom Kippur Service at Temple
  Beth Sholom. Experience our inspiring\, interactive\, musical service. Ap
 propriate for children in preschool through 2nd grade. Older (and younger)
  siblings always welcome to attend as well.
DTSTART;TZID=America/New_York:20170930T160000
DTEND;TZID=America/New_York:20170930T164500
END:VEVENT
END:VCALENDAR
