BEGIN:VCALENDAR
PRODID:-//eluceo/ical//2.0/EN
VERSION:2.0
CALSCALE:GREGORIAN
BEGIN:VEVENT
UID:b03236fdd086131e976d98712e6f3d59
DTSTAMP:20260422T221359Z
SUMMARY:Yom Kippur Children’s Services at CSI
DESCRIPTION:Jewish Federation & Foundation of Rockland County\nCommunity Ca
 lendar\nhttps://jewishrockland.org/calendar/yom-kippur-childrens-services-
 at-csi\n\nOctober 4\, 11 a.m. Yom Kippur Children’s Services at CSI\nWe 
 have a full range of programs for each member of the family. 0-3 year olds
  led by\nBethel Marcus\, 4-7 year olds led by Michelle Emuna\, and 8-12 ye
 ar olds led by Becky Mitchel.\nFree to members. Congregation Sons of Israe
 l\, 300 N. Broadway\, Upper Nyack\, NY 10960. For High Holiday Tickets\, c
 all the CSI office at 845-358-3767 or csioffice@optonline.net
DTSTART;TZID=America/New_York:20141004T110000
DTEND;TZID=America/New_York:20141004T120000
END:VEVENT
END:VCALENDAR
