BEGIN:VCALENDAR
PRODID:-//eluceo/ical//2.0/EN
VERSION:2.0
CALSCALE:GREGORIAN
BEGIN:VEVENT
UID:67c601e6e8a0b66ef6fc81c2627b9d37
DTSTAMP:20260424T214058Z
SUMMARY:Yonina Comes to OJC - A Special Concert to Celebrate Mother's Day
DESCRIPTION:Jewish Federation & Foundation of Rockland County\nCommunity Ca
 lendar\nhttps://jewishrockland.org/calendar/yonina-comes-to-ojc---a-specia
 l-concert-to-celebrate-mothers-day-1712752194\n\nJoin OJC for a wonderful 
 concert by Yonina to celebrate Mother's Day
DTSTART;TZID=America/New_York:20240512T113000
DTEND;TZID=America/New_York:20240512T130000
END:VEVENT
END:VCALENDAR
