BEGIN:VCALENDAR
PRODID:-//eluceo/ical//2.0/EN
VERSION:2.0
CALSCALE:GREGORIAN
BEGIN:VEVENT
UID:fd7589a1ee7768412544809e81b370f0
DTSTAMP:20260420T043013Z
SUMMARY:Zionism Then and Now
DESCRIPTION:Jewish Federation & Foundation of Rockland County\nCommunity Ca
 lendar\nhttps://jewishrockland.org/calendar/zionism-then-and-now-177091569
 0\n\nLearn with Rabbi Scheff about the origins and different expressions o
 f Zionism through the years\, and how they shape our current attitudes abo
 ut the modern state of Israel
DTSTART;TZID=America/New_York:20260301T190000
DTEND;TZID=America/New_York:20260301T203000
END:VEVENT
END:VCALENDAR
