BEGIN:VCALENDAR
PRODID:-//eluceo/ical//2.0/EN
VERSION:2.0
CALSCALE:GREGORIAN
BEGIN:VEVENT
UID:2f7c4e288fa8ddc2644fd97439a01855
DTSTAMP:20260423T220511Z
SUMMARY:Boppin’ with Bonnie at CSI
DESCRIPTION:Jewish Federation & Foundation of Rockland County\nClasses\nhtt
 ps://jewishrockland.org/class/boppin-with-bonnie-at-csi-7269\n\nBoppin’ 
 with Bonnie at CSI
DTSTART;TZID=America/New_York:20130109T100000
DTEND;TZID=America/New_York:20130109T110000
END:VEVENT
END:VCALENDAR
