BEGIN:VCALENDAR
PRODID:-//eluceo/ical//2.0/EN
VERSION:2.0
CALSCALE:GREGORIAN
BEGIN:VEVENT
UID:80533043938c406b625ff97c7be3e348
DTSTAMP:20260420T082913Z
SUMMARY:All Sorts of Sports
DESCRIPTION:Jewish Federation & Foundation of Rockland County\nPJ Library F
 amily Calendar\nhttps://jewishrockland.org/family-calendar/all-sorts-of-sp
 orts-1577983476\n\nCome learn a variety of sports from the best youth coac
 h around\, Jamie Most!
DTSTART;TZID=America/New_York:20200105T100000
DTEND;TZID=America/New_York:20200202T114500
END:VEVENT
END:VCALENDAR
