BEGIN:VCALENDAR
PRODID:-//eluceo/ical//2.0/EN
VERSION:2.0
CALSCALE:GREGORIAN
BEGIN:VEVENT
UID:3e3dd8c7af341afc45e6aebf5dc0c3c3
DTSTAMP:20260419T185808Z
SUMMARY:All Welcome To Join Purim Celebration At Beth Am Temple
DESCRIPTION:Jewish Federation & Foundation of Rockland County\nPJ Library F
 amily Calendar\nhttps://jewishrockland.org/family-calendar/all-welcome-to-
 join-purim-celebration-at-beth-am-temple-1740600549-487187\n\nCelebrate Pu
 rim at Beth Am Temple on Friday\, March 14th. Attend the  Purim spiel/serv
 ice\, RSVP for a Shabbat dinner and join  the Shabbat service and Oneg.
DTSTART;TZID=America/New_York:20250314T173000
DTEND;TZID=America/New_York:20250314T213000
END:VEVENT
END:VCALENDAR
