BEGIN:VCALENDAR
PRODID:-//eluceo/ical//2.0/EN
VERSION:2.0
CALSCALE:GREGORIAN
BEGIN:VEVENT
UID:ba8a93ece7c1215bdb72da642965c9eb
DTSTAMP:20260424T191709Z
SUMMARY:Autism Speaks Town Hall -  Transition to Adulthood
DESCRIPTION:Jewish Federation & Foundation of Rockland County\nPJ Library F
 amily Calendar\nhttps://jewishrockland.org/family-calendar/autism-speaks-t
 own-hall----transition-to-adulthood-1565185440\n\nThis event is free but y
 ou must register.  
DTSTART;TZID=America/New_York:20190910T183000
DTEND;TZID=America/New_York:20190910T203000
END:VEVENT
END:VCALENDAR
