BEGIN:VCALENDAR
PRODID:-//eluceo/ical//2.0/EN
VERSION:2.0
CALSCALE:GREGORIAN
BEGIN:VEVENT
UID:03535534c553f932ab9d0e24949dc53b
DTSTAMP:20260421T160959Z
SUMMARY:Basketball Clinic
DESCRIPTION:Jewish Federation & Foundation of Rockland County\nPJ Library F
 amily Calendar\nhttps://jewishrockland.org/family-calendar/basketball-clin
 ic-1559384541\n\nFree Basketball Clinic led by our J-Hoops Jr Coaches\n\nL
 imited space. Advance registration required. \n\nJ Hoops basketball progra
 ms are our most popular leagues that we run at JCC Rockland with over 600 
 kids participating!\n\nOur kindergarten and first grade divisions expose o
 ur youngest players to basketball through fun skills and drills. They cap 
 off their practice time with a friendly game.\nPlayers in grades 2-12 expe
 rience a competitive game played along with good sportsmanship and...
DTSTART;TZID=America/New_York:20191013T010000
DTEND;TZID=America/New_York:20191013T020000
END:VEVENT
END:VCALENDAR
