BEGIN:VCALENDAR
PRODID:-//eluceo/ical//2.0/EN
VERSION:2.0
CALSCALE:GREGORIAN
BEGIN:VEVENT
UID:3d72530d07f1fc7fe432b6c73a87e2ce
DTSTAMP:20260421T114626Z
SUMMARY:Celebrate High Holidays @ CSI
DESCRIPTION:Jewish Federation & Foundation of Rockland County\nPJ Library F
 amily Calendar\nhttps://jewishrockland.org/family-calendar/celebrate-high-
 holidays--csi-1569281401\n\nTot Shabbat and Junior Congregation on both da
 ys of Rosh Hashanah  Birth to first grade with caregiver. Second to 7th gr
 ade - drop off okay. P
DTSTART;TZID=America/New_York:20190930T110000
DTEND;TZID=America/New_York:20191001T120000
END:VEVENT
END:VCALENDAR
