BEGIN:VCALENDAR
PRODID:-//eluceo/ical//2.0/EN
VERSION:2.0
CALSCALE:GREGORIAN
BEGIN:VEVENT
UID:f9fe35e9f02ced69624fbca7e7e6e508
DTSTAMP:20260420T101303Z
SUMMARY:Celebrate Purim At Beth Am Temple
DESCRIPTION:Jewish Federation & Foundation of Rockland County\nPJ Library F
 amily Calendar\nhttps://jewishrockland.org/family-calendar/celebrate-purim
 -at-beth-am-temple-1770907522-511000\n\nJoin the fun at Beth Am Temple's P
 urim celebration on Tuesday\, March 3 beginning at 5 pm.
DTSTART;TZID=America/New_York:20260303T170000
DTEND;TZID=America/New_York:20260303T181500
END:VEVENT
END:VCALENDAR
