BEGIN:VCALENDAR
PRODID:-//eluceo/ical//2.0/EN
VERSION:2.0
CALSCALE:GREGORIAN
BEGIN:VEVENT
UID:52f3e1a253c157f3be671657e8c35445
DTSTAMP:20260420T032112Z
SUMMARY:CSI Disney Melange Purim Spiel
DESCRIPTION:Jewish Federation & Foundation of Rockland County\nPJ Library F
 amily Calendar\nhttps://jewishrockland.org/family-calendar/csi-disney-mela
 nge-purim-spiel-1709299044-461119\n\nDisney Melange Purim Spiel\nSaturday 
 March 23rd 8:15 p.m.\nJoin CSI\, Nyack for a night of Disney and Megillah 
 reading.\n845 358 3767 for more information.
DTSTART;TZID=America/New_York:20240323T201500
DTEND;TZID=America/New_York:20240323T213000
END:VEVENT
END:VCALENDAR
