BEGIN:VCALENDAR
PRODID:-//eluceo/ical//2.0/EN
VERSION:2.0
CALSCALE:GREGORIAN
BEGIN:VEVENT
UID:28a2614195a8a1eebba0b9af2fb03ed6
DTSTAMP:20260425T031735Z
SUMMARY:CSI's Purim Carnival
DESCRIPTION:Jewish Federation & Foundation of Rockland County\nPJ Library F
 amily Calendar\nhttps://jewishrockland.org/family-calendar/csis-purim-carn
 ival-1771273736-511281\n\nSunday\, March 1\, 1-3 p.m. A Purim celebration 
 for the whole family with games\, crafts and snacks.  David Sherrin will r
 ead his book. The Big Bad Wolf and the Masquerade Ball.  Games & Prizes! C
 rafts & Snacks!\nRSVP a Must to office@csinyack.org\nKids $5 Adults $7 Fam
 ily $20
DTSTART;TZID=America/New_York:20260301T130000
DTEND;TZID=America/New_York:20260301T150000
END:VEVENT
END:VCALENDAR
