BEGIN:VCALENDAR
PRODID:-//eluceo/ical//2.0/EN
VERSION:2.0
CALSCALE:GREGORIAN
BEGIN:VEVENT
UID:ca7b8b0cad1bc16be03120b650fcbcaf
DTSTAMP:20260422T072323Z
SUMMARY:Dinosaur Shabbat Storytime
DESCRIPTION:Jewish Federation & Foundation of Rockland County\nPJ Library F
 amily Calendar\nhttps://jewishrockland.org/family-calendar/dinosaur-shabba
 t-storytime-1559673899\n\nJoin us for Dinosaur Shabbat Storytime with Cant
 or Michelle
DTSTART;TZID=America/New_York:20190712T100000
DTEND;TZID=America/New_York:20190712T110000
END:VEVENT
END:VCALENDAR
