BEGIN:VCALENDAR
PRODID:-//eluceo/ical//2.0/EN
VERSION:2.0
CALSCALE:GREGORIAN
BEGIN:VEVENT
UID:6b57d2d30a9339467b029840768c49c5
DTSTAMP:20260424T221845Z
SUMMARY:Early Kabbalat Shabbat
DESCRIPTION:Jewish Federation & Foundation of Rockland County\nPJ Library F
 amily Calendar\nhttps://jewishrockland.org/family-calendar/early-kabbalat-
 shabbat-1765558920-506934\n\nJoin us for a musical family service featurin
 g Amichai "The Music Guy" Margolis -- AND a FREE Shabbat dinner!\nThis inf
 ormal experience is a perfect introduction to Shabbat - and a great way to
  meet other families. Click here to register
DTSTART;TZID=America/New_York:20251219T174500
DTEND;TZID=America/New_York:20251219T184500
END:VEVENT
END:VCALENDAR
