BEGIN:VCALENDAR
PRODID:-//eluceo/ical//2.0/EN
VERSION:2.0
CALSCALE:GREGORIAN
BEGIN:VEVENT
UID:dc050a4076d7888e241ce69ce0146dec
DTSTAMP:20260419T225714Z
SUMMARY:Early Kabbalat Shabbat
DESCRIPTION:Jewish Federation & Foundation of Rockland County\nPJ Library F
 amily Calendar\nhttps://jewishrockland.org/family-calendar/early-kabbalat-
 shabbat-1771364956-511468\n\nFree\; registration required: https://www.the
 ojc.org/event/EKS2025-2026
DTSTART;TZID=America/New_York:20260320T174500
DTEND;TZID=America/New_York:20260320T194500
END:VEVENT
END:VCALENDAR
