BEGIN:VCALENDAR
PRODID:-//eluceo/ical//2.0/EN
VERSION:2.0
CALSCALE:GREGORIAN
BEGIN:VEVENT
UID:421b8f2172a99a7c072a12cfe5af90f8
DTSTAMP:20260423T061046Z
SUMMARY:Habayit Teens Yom Kippur Program at New City Jewish Center
DESCRIPTION:Jewish Federation & Foundation of Rockland County\nPJ Library F
 amily Calendar\nhttps://jewishrockland.org/family-calendar/habayit-teens-y
 om-kippur-program-at-new-city-jewish-center-1756140028-499039\n\nJoin our 
 teens for an interesting exploration of Yom Kippur!
DTSTART;TZID=America/New_York:20251002T111500
DTEND;TZID=America/New_York:20251002T120000
END:VEVENT
END:VCALENDAR
